BEGIN:VCALENDAR
VERSION:2.0
PRODID:-//CCCI - ECPv6.15.20//NONSGML v1.0//EN
CALSCALE:GREGORIAN
METHOD:PUBLISH
X-ORIGINAL-URL:https://cebuchamber.org
X-WR-CALDESC:Events for CCCI
REFRESH-INTERVAL;VALUE=DURATION:PT1H
X-Robots-Tag:noindex
X-PUBLISHED-TTL:PT1H
BEGIN:VTIMEZONE
TZID:Asia/Manila
BEGIN:STANDARD
TZOFFSETFROM:+0800
TZOFFSETTO:+0800
TZNAME:PST
DTSTART:20230101T000000
END:STANDARD
END:VTIMEZONE
BEGIN:VEVENT
DTSTART;TZID=Asia/Manila:20241003T130000
DTEND;TZID=Asia/Manila:20241003T170000
DTSTAMP:20260425T083917
CREATED:20240930T032930Z
LAST-MODIFIED:20240930T033000Z
UID:6448-1727960400-1727974800@cebuchamber.org
SUMMARY:TABCS Module 1: Accounting for Non Accountants
DESCRIPTION:Module 1 of the Tax and Accounting Business Cliniquing Series\, tailored to simplify financial concepts for professionals without an accounting background. Gain practical insights for effective financial management! \n\n\n\n\nREGISTER HERE
URL:https://cebuchamber.org/events/tabcs-module-1-accounting-for-non-accountants/
LOCATION:Cebu Chamber Centre\, 3rd Floor\, cor. Commerce and Industry Sts.\, Barangay Tejero\, North Reclamation Area\, Cebu City\, Cebu\, 6000\, Philippines
ORGANIZER;CN="Business Development (BD)":MAILTO:karen@cebuchamber.org
END:VEVENT
END:VCALENDAR